BEGIN:VCALENDAR
VERSION:2.0
PRODID:-//Art Connect Palm Beach - ECPv6.15.17.1//NONSGML v1.0//EN
CALSCALE:GREGORIAN
METHOD:PUBLISH
X-ORIGINAL-URL:https://www.artconnectpalmbeach.com
X-WR-CALDESC:Events for Art Connect Palm Beach
REFRESH-INTERVAL;VALUE=DURATION:PT1H
X-Robots-Tag:noindex
X-PUBLISHED-TTL:PT1H
BEGIN:VTIMEZONE
TZID:America/New_York
BEGIN:DAYLIGHT
TZOFFSETFROM:-0500
TZOFFSETTO:-0400
TZNAME:EDT
DTSTART:20250309T070000
END:DAYLIGHT
BEGIN:STANDARD
TZOFFSETFROM:-0400
TZOFFSETTO:-0500
TZNAME:EST
DTSTART:20251102T060000
END:STANDARD
BEGIN:DAYLIGHT
TZOFFSETFROM:-0500
TZOFFSETTO:-0400
TZNAME:EDT
DTSTART:20260308T070000
END:DAYLIGHT
BEGIN:STANDARD
TZOFFSETFROM:-0400
TZOFFSETTO:-0500
TZNAME:EST
DTSTART:20261101T060000
END:STANDARD
BEGIN:DAYLIGHT
TZOFFSETFROM:-0500
TZOFFSETTO:-0400
TZNAME:EDT
DTSTART:20270314T070000
END:DAYLIGHT
BEGIN:STANDARD
TZOFFSETFROM:-0400
TZOFFSETTO:-0500
TZNAME:EST
DTSTART:20271107T060000
END:STANDARD
END:VTIMEZONE
BEGIN:VEVENT
DTSTART;TZID=America/New_York:20260306T000000
DTEND;TZID=America/New_York:20260306T235900
DTSTAMP:20260420T071827
CREATED:20260211T192224Z
LAST-MODIFIED:20260215T022536Z
UID:1550-1772755200-1772841540@www.artconnectpalmbeach.com
SUMMARY:APPLY: Call to Artists Cornell's Art at The Square
DESCRIPTION:MEMBERS ONLY \nThe Cornell Art Museum is officially bringing back Art on the Square Fine Art Show\, taking place March 28–29 with artist move-in on March 27. \nArt on the Square is a premier\, two-day juried outdoor fine art show. This outdoor art gallery invites fine artists from around the country to showcase original works on the beautiful\, park-like grounds of the Cornell Art Museum at Old School Square. \nWe are excited to offer a unique opportunity for our art club to participate with a shared tent and represent our artwork as part of this prestigious event. This experience allows each artist to see what it’s like to be part of a professional outdoor fine art show—without the cost of being a solo exhibitor. \nArtist Opportunity Details \n\nFee: $75 per artist\nExhibit:\n\n1 piece of original artwork\nUp to 10 prints of additional work (displayed in a folding print rack)\n\n\nBonus: Your artwork will be photographed in the tent for inclusion in our upcoming portfolio.\nSubmission Process\nInterested artists should complete the entry form.\nYou may submit up to three paintings for consideration. Please put the name of artwork\, size\, medium and price.\nOur jury committee will select one work to be exhibited in the show.\n\nThis is a wonderful opportunity to gain exposure\, experience a high-quality outdoor art fair\, and be part of a vibrant fine art event in a beautiful setting. \nWe look forward to seeing your submissions and showcasing the talent of our artists at Art on the Square! \nDue date for submission 3/6/26 \nPlease enable JavaScript in your browser to complete this form.Please enable JavaScript in your browser to complete this form.Name *FirstLastEmail *Phone *Contact Information on Art Label *Upload Images of Your Artwork\n	\n		\n			\n		\n\n		\n							Drag & Drop Files\, 				Choose Files to Upload\n					\n\n					You can upload up to 3 files.\n			\n\n\n\nAllowed file type: .png\, .gif\, .jpg | Max file size: 10mgArt #1 - TitleArt #1 - MediumArt #1 - SizeArt #1 - PriceArt #1 - DescriptionArt #2 - TitleArt #2 - MediumArt #2 - SizeArt #2 - PriceArt #2 - DescriptionArt #3 - TitleArt #3 - MediumArt #3 - SizeArt #3 - PriceArt #3 - DescriptionSubmit
URL:https://www.artconnectpalmbeach.com/event/apply-call-to-artists-cornells-art-at-the-square/
LOCATION:Cornell Art Museum\, 51 N Swinton Ave\, Delray Beach\, FL\, 33444\, United States
END:VEVENT
BEGIN:VEVENT
DTSTART;TZID=America/New_York:20260306T000000
DTEND;TZID=America/New_York:20260306T235900
DTSTAMP:20260420T071827
CREATED:20260211T194021Z
LAST-MODIFIED:20260211T194021Z
UID:1558-1772755200-1772841540@www.artconnectpalmbeach.com
SUMMARY:RSVP: March Outing to Bunker Artspace (March 13)
DESCRIPTION:MEMBER’S ONLY  – Join Art Connect Palm Beach \nThe Bunker Artspace\n444 Bunker Road in West Palm Beach\nFriday\, March 13th at 2pm \nLunch at a nearby restaurant before for those interested \nCost is $25 payable when we arrive \nThe Bunker Artspace opened in December 2017 as a private art space in West Palm Beach\, Florida. Presenting rotating exhibitions of the Beth Rudin DeWoody Collection\, The Bunker showcases a vast range of contemporary art\, iconic pieces of furniture\, and other curiosities. Through DeWoody’s passion\, vision\, and continuing support of emerging artists and galleries\, she has redefined the boundaries of collecting. By championing emerging and\, at times\, overlooked artists\, especially in the early stages of their careers\, she has amassed a truly unique collection. This season\, our 2025/2026 Guest Curator\, Marie Watt will present Companion Species (Witness)\, an exhibition that highlights the interconnectedness between humans\, other species\, and the land\, while presenting an incredible range of Indigenous artists in conversation with artists across all backgrounds. \nDeadline to sign up March 6 \nFor more information\, contact: Dedeatkinsdesigns@gmail.com \nPlease enable JavaScript in your browser to complete this form.Please enable JavaScript in your browser to complete this form.Name *FirstLastEmail *Phone Number *How many people? *Submit
URL:https://www.artconnectpalmbeach.com/event/rsvp-march-outing-to-bunker-artspace-march-13/
LOCATION:The Bunker Artspace\, 444 Bunker Road\, West Palm Beach\, FL\, 33405\, United States
END:VEVENT
BEGIN:VEVENT
DTSTART;TZID=America/New_York:20260307T140000
DTEND;TZID=America/New_York:20260307T160000
DTSTAMP:20260420T071827
CREATED:20260122T230440Z
LAST-MODIFIED:20260122T231934Z
UID:1532-1772892000-1772899200@www.artconnectpalmbeach.com
SUMMARY:SIGN UP: Carmela Cafe Pop Up (March 7\, 2026)
DESCRIPTION:MEMBERS ONLY \nOn Saturday\, March 7 2-4 there will be a pop up at Carmela Cafe \, 247 SE 6th Ave\, Delray Beach. \nOnly 4 vendors . Please let me know if you are interested. \nYou need to bring your own table\, chair\, table covering and art. It is outside under cover. Lots of parking any questions\, text 216-390-0981. \nPlease enable JavaScript in your browser to complete this form.Please enable JavaScript in your browser to complete this form.Name *FirstLastEmail *Phone *Submit
URL:https://www.artconnectpalmbeach.com/event/carmela-cafe-pop-up-march-7-2026/
LOCATION:Carmela Cafe\, 247 SE 6th Ave\, Delray Beach\, FL\, 33483\, United States
END:VEVENT
END:VCALENDAR